BEGIN:VCALENDAR
VERSION:2.0
PRODID:-//Florida Mosquito Control Association (FMCA) - ECPv6.15.20//NONSGML v1.0//EN
CALSCALE:GREGORIAN
METHOD:PUBLISH
X-ORIGINAL-URL:https://www.yourfmca.org
X-WR-CALDESC:Events for Florida Mosquito Control Association (FMCA)
REFRESH-INTERVAL;VALUE=DURATION:PT1H
X-Robots-Tag:noindex
X-PUBLISHED-TTL:PT1H
BEGIN:VTIMEZONE
TZID:America/New_York
BEGIN:DAYLIGHT
TZOFFSETFROM:-0500
TZOFFSETTO:-0400
TZNAME:EDT
DTSTART:20230312T070000
END:DAYLIGHT
BEGIN:STANDARD
TZOFFSETFROM:-0400
TZOFFSETTO:-0500
TZNAME:EST
DTSTART:20231105T060000
END:STANDARD
BEGIN:DAYLIGHT
TZOFFSETFROM:-0500
TZOFFSETTO:-0400
TZNAME:EDT
DTSTART:20240310T070000
END:DAYLIGHT
BEGIN:STANDARD
TZOFFSETFROM:-0400
TZOFFSETTO:-0500
TZNAME:EST
DTSTART:20241103T060000
END:STANDARD
BEGIN:DAYLIGHT
TZOFFSETFROM:-0500
TZOFFSETTO:-0400
TZNAME:EDT
DTSTART:20250309T070000
END:DAYLIGHT
BEGIN:STANDARD
TZOFFSETFROM:-0400
TZOFFSETTO:-0500
TZNAME:EST
DTSTART:20251102T060000
END:STANDARD
END:VTIMEZONE
BEGIN:VEVENT
DTSTART;TZID=America/New_York:20240518T080000
DTEND;TZID=America/New_York:20240518T120000
DTSTAMP:20260423T195024
CREATED:20240313T130753Z
LAST-MODIFIED:20240313T130906Z
UID:10000064-1716019200-1716033600@www.yourfmca.org
SUMMARY:Hillsborough County Mosquito Management Services (MMS) Mosquitofish Giveaway
DESCRIPTION:Hillsborough County “Public Works Day” at the West Service Unit \nThe mosquitofish will be available from 8 a.m. to 12 p.m. \nResidents throughout Hillsborough County\, including Tampa\, Temple Terrance\, Plant City\, and MacDill Air Force Base\, can pick up free fish at a mobile fish event courtesy of Hillsborough County Mosquito Management Services. Residents must present a valid photo ID showing residence in Hillsborough County to receive fish. Limited quantities of mosquitofish will be available\, while supplies last. The County is providing fish as an effective\, natural way for residents to help reduce backyard mosquito breeding and control the spread of mosquito-borne disease. They require no feeding\, and care is limited to protecting them from garden sprays\, chlorine\, or other chemicals used for cleaning. Mosquitofish do not lay eggs and require no special environment for breeding.
URL:https://www.yourfmca.org/events/hillsborough-county-mosquito-management-services-mms-mosquitofish-giveaway-2/
LOCATION:West Service Unit\, 9805 Sheldon Road\, Tampa\, 33635\, United States
END:VEVENT
BEGIN:VEVENT
DTSTART;TZID=America/New_York:20240524T110000
DTEND;TZID=America/New_York:20240524T120000
DTSTAMP:20260423T195024
CREATED:20240523T114703Z
LAST-MODIFIED:20240523T114703Z
UID:10000071-1716548400-1716552000@www.yourfmca.org
SUMMARY:FMCA Board of Directors Meeting
DESCRIPTION:FMCA Board of Directors Meeting\nMay 24th\, 2024\n11:00 am to 12:00 pm \nZoom Information: \nhttps://us06web.zoom.us/j/84139352947?pwd=obPHc5eaEO1G28oynmXJV92lhQ2AqZ.1 \nMeeting ID: 841 3935 2947\nPasscode: 958545
URL:https://www.yourfmca.org/events/fmca-board-of-directors-meeting/
END:VEVENT
END:VCALENDAR